BEGIN:VCALENDAR
VERSION:2.0
PRODID:-//ChamberMaster//Event Calendar 2.0//EN
METHOD:PUBLISH
X-PUBLISHED-TTL:P3D
REFRESH-INTERVAL:P3D
CALSCALE:GREGORIAN
BEGIN:VEVENT
DTSTART:20220703T153000Z
DTEND:20220703T190000Z
X-MICROSOFT-CDO-ALLDAYEVENT:FALSE
SUMMARY:Vintage Baseball Game - Colerain Chamber All-Stars
DESCRIPTION:1869 Cincinnati Red Stockings\n\n    vs.    Colerain Chamber All- Stars\n\n\n\nFREE Ice Cream provided by\n\nUnited Dairy Farmers Homemade Brand\n\n\n\nThe Cincinnati Reds Hall of Fame (sponsored by Dinsmore) will be represented by baseball players in character from 1869 and playing by rules from over 150 years ago. Colerain Chamber of Commerce President "Dusty" Moravec and team captain "Stick" Porotsky & their rag-tag group of players have challenged the Red Stockings to a classic match prior to the Colerain Fireworks celebration that evening. This will be an alcohol-free and entertaining event with games & prizes\, so bring your picnic lunch and enjoy an afternoon of fun. The kids clinic is intended for kids of all ages to learn about the game and try their hand at vintage baseball with instruction from the Red Stockings.  Colerain Chamber non-profit organizations on hand include:\n\n\n\n            Coleraine Historical Society - Team Up to Green Up \n\n         People Working Cooperatively & Colerain Give-back Day \n\n         YMCA & YMCA Senior Programs  -  Pray Hope Believe\n\n      Side by Side - Colerain Kiwanis Club - e-Life Student Ministries
X-ALT-DESC;FMTTYPE=text/html:<strong><span style="color:#C00000\;"><span style="font-family:baskerville old face\,serif\;"><span style="font-size:28.0pt\;">1869 Cincinnati Red Stockings</span></span></span></strong><br />\n<span style="color:#C00000\;"><span style="font-family:baskerville old face\,serif\;"><span style="font-size:28.0pt\;">&nbsp\;&nbsp\;&nbsp\;&nbsp\;<u>vs.</u>&nbsp\; &nbsp\; <strong>Colerain Chamber</strong></span></span></span><span style="color:#C00000\;"><span style="font-family:baskerville old face\,serif\;"><span style="font-size:28.0pt\;"><strong>&nbsp\;All- Stars</strong></span></span></span><br />\n<br />\n<strong><u><span style="color:#4472C4\;"><span style="font-family:baskerville old face\,serif\;"><span style="font-size:20.0pt\;">FREE </span></span></span></u></strong><span style="color:#4472C4\;"><span style="font-family:baskerville old face\,serif\;"><span style="font-size:20.0pt\;">Ice Cream provided by<br />\nUnited Dairy Farmers Homemade Brand</span></span></span><br />\n<br />\n<span style="color:#C00000\;"><span style="font-family:baskerville old face\,serif\;"><span style="font-size:14.0pt\;">The Cincinnati Reds Hall of Fame </span></span></span><span style="color:#4472C4\;"><span style="font-family:baskerville old face\,serif\;"><span style="font-size:14.0pt\;">(sponsored by Dinsmore) </span></span></span><span style="color:#C00000\;"><span style="font-family:baskerville old face\,serif\;"><span style="font-size:14.0pt\;">will be represented by baseball players in character from 1869 and playing by rules from over 150 years ago. Colerain Chamber of Commerce President &ldquo\;Dusty&rdquo\; Moravec and team captain &ldquo\;Stick&rdquo\; Porotsky &amp\; their rag-tag group of players have challenged the Red Stockings to a classic match <u>prior to the Colerain Fireworks celebration that evening</u>. This will be an alcohol-free and entertaining event with games &amp\; prizes\, so bring your picnic lunch and enjoy an afternoon of fun. The kids clinic is intended for kids of all ages to learn about the game and try their hand at vintage baseball with instruction from the Red Stockings.&nbsp\; Colerain Chamber non-profit organizations on hand include:</span></span></span><br />\n<br />\n<span style="font-size:14px\;"><strong><span style="color:#4472C4\;"><span style="font-family:lucida calligraphy\;">&nbsp\; &nbsp\; &nbsp\; &nbsp\; &nbsp\; &nbsp\; Coleraine Historical Society - Team Up to Green Up </span></span></strong><br />\n<strong><span style="color:#4472C4\;"><span style="font-family:lucida calligraphy\;">&nbsp\; &nbsp\; &nbsp\; &nbsp\; &nbsp\;People Working Cooperatively &amp\; Colerain Give-back Day </span></span></strong><br />\n<strong><span style="color:#4472C4\;"><span style="font-family:lucida calligraphy\;">&nbsp\; &nbsp\; &nbsp\; &nbsp\; &nbsp\;YMCA &amp\; YMCA Senior Programs &nbsp\;-&nbsp\; Pray Hope Believe<br />\n&nbsp\; &nbsp\; &nbsp\; Side by Side -&nbsp\;</span></span></strong><strong><span style="color:#4472C4\;"><span style="font-family:lucida calligraphy\;">Colerain Kiwanis Club - e-Life Student Ministries</span></span></strong></span>
LOCATION:Colerain Park Foglesong Field (4725 Springdale Road)
UID:e.2075.1833
SEQUENCE:3
DTSTAMP:20260425T152413Z
URL:https://business.colerainchamber.org/events/details/vintage-baseball-game-colerain-chamber-all-stars-1833
END:VEVENT

END:VCALENDAR
