BEGIN:VCALENDAR
VERSION:2.0
PRODID:-//ChamberMaster//Event Calendar 2.0//EN
METHOD:PUBLISH
X-PUBLISHED-TTL:P3D
REFRESH-INTERVAL:P3D
CALSCALE:GREGORIAN
BEGIN:VEVENT
DTSTART;VALUE=DATE:20221218
DTEND;VALUE=DATE:20221219
TRANSP:TRANSPARENT
X-MICROSOFT-CDO-ALLDAYEVENT:TRUE
SUMMARY:Team Up to Green Up - STREET TREES
DESCRIPTION:Donations for Street Trees is an initiative for the Colerain Chamber of Commerce bringing together resources from the Township of Colerain\, area businesses\, and other governmental & non-governmental agencies across greater Colerain\, intended to both beautify the community and increase the CO(2) that is discharged into the environment from trees. The release of CO(2) can help slow global warming and benefit the entire regions environmental impact in many different ways. This community program has been developed so that businesses and individuals can contribute financially to the township/chamber initiative and so that the trees get placed in the most optimal spots which have already been identified.\n\n\n\nThe purpose of the program is NOT to place trees in business thoroughfares where signage and storefront visibility are reduced\, but rather to have businesses support the program knowing that they will help the community as a whole.
X-ALT-DESC;FMTTYPE=text/html:Donations for Street Trees is an initiative for the Colerain Chamber of Commerce bringing together resources from the Township of Colerain\, area businesses\, and other governmental &amp\; non-governmental agencies across greater Colerain\, intended to both beautify the community and increase the CO(2) that is discharged into the environment from trees. The release of CO(2) can help slow global warming and benefit the entire regions environmental impact in many different ways. This community program has been developed so that businesses and individuals can contribute financially to the township/chamber initiative and so that the trees get placed in the most optimal spots which have already been identified.<br />\n<br />\nThe purpose of the program is NOT to place trees in business thoroughfares where signage and storefront visibility are reduced\, but rather to have businesses support the program knowing that they will help the community as a whole.&nbsp\;&nbsp\;&nbsp\;&nbsp\;&nbsp\;&nbsp\;&nbsp\;&nbsp\;&nbsp\;
LOCATION:For more information about this program\, you can visit the following linked website associated with the Colerain Chamber of Commerce\, Colerain Township\, and area businesses. https://www.teamuptogreenup.org/donate
UID:e.2075.1725
SEQUENCE:3
DTSTAMP:20260422T212924Z
URL:https://business.colerainchamber.org/events/details/team-up-to-green-up-street-trees-1725
END:VEVENT

END:VCALENDAR
