BEGIN:VCALENDAR
VERSION:2.0
PRODID:-//ChamberMaster//Event Calendar 2.0//EN
METHOD:PUBLISH
X-PUBLISHED-TTL:P3D
REFRESH-INTERVAL:P3D
CALSCALE:GREGORIAN
BEGIN:VEVENT
DTSTART:20230804T223000Z
DTEND:20230805T013000Z
X-MICROSOFT-CDO-ALLDAYEVENT:FALSE
SUMMARY:RIVERBOAT DINNER CRUISE - August 4\, 2023
DESCRIPTION:All Colerain Chamber Members and their guests are invited to enjoy an Ohio River Dinner Cruise on the beautiful Belle of Cincinnati on Friday\, August 4th. This is an excellent opportunity to network with your fellow Chamber members\, while also enjoying a night out with your spouse or significant other!  And catch the Red's Friday Night Firework Show! \n\n\n\nOur host\, BB Riverboats\, is a Colerain Chamber Member\, and they're offering an incredible deal to our Chamber for this special evening on the river. In addition to a relaxing cruise with music\, we'll be treated to a delicious "Admiral's Banquet" dinner buffet\, featuring: Beef Sirloin\, Carved Turkey Breast\, roasted potatoes\, fresh vegetables\, salad\, AND cheesecake!\n\n\n\nYou and your guests will enjoy this cruise and dinner for only $35/person - LESS THAN HALF the regular price! A cash bar will be available with all sorts of beverages. Dinner and a river cruise is a great summer "date night" in Cincinnati\, and this one is a great deal too! This EARLY BIRD price of $35 is good until July 7th.  After July t7h price is $40 per person. \n\n\n\nAdvance registration is required by Sunday\, July 30th so don't miss out! Sign up today\, and join your Colerain Chamber friends and guests for a delightful evening on the Ohio River on Friday\, August 4th!
X-ALT-DESC;FMTTYPE=text/html:<p><span style="font-family: arial\;"><span style="font-size: 14px\;"><strong>All Colerain Chamber Members and their guests are invited to enjoy an Ohio River Dinner Cruise on the beautiful Belle of Cincinnati on Friday\, August 4th. </strong>This is&nbsp\;an excellent opportunity to network with your fellow Chamber members\, while also enjoying a night out with your spouse or significant other!&nbsp\; <strong>And catch the Red&#39\;s Friday Night Firework Show!&nbsp\;</strong><br />\n<br />\n<strong>Our host\, BB Riverboats\, is a Colerain Chamber Member\, and they&#39\;re offering an incredible deal to our Chamber for this special evening on the river. </strong>In addition to a relaxing cruise with music\, we&#39\;ll be treated to a delicious &quot\;Admiral&#39\;s Banquet&quot\; dinner buffet\, featuring: Beef Sirloin\, Carved Turkey Breast\,&nbsp\;roasted potatoes\, fresh vegetables\, salad\, AND cheesecake!<br />\n<br />\n<strong>You and your guests will enjoy this cruise and dinner for only $35/person - LESS THAN HALF the regular price!</strong> A cash bar will be available with all sorts of beverages. Dinner and a river cruise is a great summer &quot\;date night&quot\; in Cincinnati\, and this one is a great deal too! <strong>This EARLY BIRD price of $35 is good until July 7th.&nbsp\; After July t7h price is $40 per person.&nbsp\;</strong><br />\n<br />\n<strong>Advance registration is required by Sunday\, July 30th&nbsp\;so don&#39\;t miss out! </strong>Sign up today\, and join your Colerain Chamber friends and guests for a delightful evening on the Ohio River on Friday\, August 4th!</span></span></p>\n
LOCATION:Belle of Cincinnati\, BB Riverboats Newport Landing on the Ohio River 101 Riverboat Row Newport\, KY 41071
UID:e.2075.1893
SEQUENCE:3
DTSTAMP:20260423T022752Z
URL:https://business.colerainchamber.org/events/details/riverboat-dinner-cruise-august-4-2023-1893
END:VEVENT

END:VCALENDAR
