BEGIN:VCALENDAR
VERSION:2.0
PRODID:-//ChamberMaster//Event Calendar 2.0//EN
METHOD:PUBLISH
X-PUBLISHED-TTL:P3D
REFRESH-INTERVAL:P3D
CALSCALE:GREGORIAN
BEGIN:VEVENT
DTSTART:20231013T140000Z
DTEND:20231013T150000Z
X-MICROSOFT-CDO-ALLDAYEVENT:FALSE
SUMMARY:Ribbon Cutting - Crumbl Cookies
DESCRIPTION:We are thrill to announce the Grand Opening of the brand new Crumbl Cookies on Glenway Ave. We welcome their first location to the West Side of town.  Join us for a sweet celebration and witness the official ribbon cutting ceremony.
X-ALT-DESC;FMTTYPE=text/html:We are thrill to announce the Grand Opening of the brand new Crumbl Cookies on Glenway Ave. We welcome their first location to the West Side of town.&nbsp\; Join us for a sweet celebration and witness the official ribbon cutting ceremony.&nbsp\;&nbsp\;
LOCATION:Crumble Cookie 6173 Glenway Ave ( In front of Kroger's) Cincinnati\, OH 45211
UID:e.2075.2378
SEQUENCE:3
DTSTAMP:20260422T225222Z
URL:https://business.colerainchamber.org/events/details/ribbon-cutting-crumbl-cookies-2378
END:VEVENT

END:VCALENDAR
