BEGIN:VCALENDAR
VERSION:2.0
PRODID:-//ChamberMaster//Event Calendar 2.0//EN
METHOD:PUBLISH
X-PUBLISHED-TTL:P3D
REFRESH-INTERVAL:P3D
CALSCALE:GREGORIAN
BEGIN:VEVENT
DTSTART:20231205T143000Z
DTEND:20231205T150000Z
X-MICROSOFT-CDO-ALLDAYEVENT:FALSE
SUMMARY:Ribbon Cutting
DESCRIPTION:
X-ALT-DESC;FMTTYPE=text/html:
LOCATION:Tuesday\, December 5th at 9:30am 9459 Colerain Ave. Behind Kabuto Japanese Steakhouse/in front of Northgate Mall)
UID:e.2075.2430
SEQUENCE:3
DTSTAMP:20260420T080600Z
URL:https://business.colerainchamber.org/events/details/ribbon-cutting-2430
END:VEVENT

END:VCALENDAR
