BEGIN:VCALENDAR
VERSION:2.0
PRODID:-//ChamberMaster//Event Calendar 2.0//EN
METHOD:PUBLISH
X-PUBLISHED-TTL:P3D
REFRESH-INTERVAL:P3D
CALSCALE:GREGORIAN
BEGIN:VEVENT
DTSTART:20230915T120000Z
DTEND:20230915T140000Z
X-MICROSOFT-CDO-ALLDAYEVENT:FALSE
SUMMARY:POLICE & FIRE APPRECIATION BREAKFAST - SEPT 15th
DESCRIPTION:Join us for a delicious hot breakfast provided by BB Riverboats & Current Catering\, as we recognize the Colerain Police Officer of the Year and the Colerain Firefighter/EMS of the Year!\n\n\n\nHelp us thank our Police and Fire/EMS personnel for their steadfast service to our community and show our appreciation for all they do to support and protect the residents and businesses of Colerain Township.  We are pleased to have State Representative\, Cindy Abrams as our guest speaker.
X-ALT-DESC;FMTTYPE=text/html:<span style="color:#000080\;"><span style="font-family: arial\;"><span style="font-size: 14px\;"><strong>Join us for a delicious hot breakfast provided by BB Riverboats &amp\; Current Catering</strong></span></span>\,&nbsp\;<span style="font-family: arial\;"><span style="font-size: 14px\;"><strong>as we recognize the Colerain&nbsp\;Police Officer of the Year&nbsp\;and the Colerain Firefighter/EMS of the Year!</strong></span></span></span><br />\n<br />\n<em><strong><span style="color:#000080\;"><span style="font-family: arial\;"><span style="font-size: 14px\;">Help us thank our Police and Fire/EMS personnel for their steadfast service to our community and show our appreciation for all they do to support and protect the residents and businesses of&nbsp\;Colerain Township.&nbsp\; We are pleased to have State Representative\, Cindy Abrams as our guest speaker.&nbsp\;</span></span></span></strong></em><br />\n<br />\n<br />\n<br />\n<br />\n<br />\n&nbsp\;
LOCATION:Colerain Township Community Center (4300 Springdale Rd.) - Hall A
UID:e.2075.1925
SEQUENCE:3
DTSTAMP:20260423T000406Z
URL:https://business.colerainchamber.org/events/details/police-fire-appreciation-breakfast-sept-15th-1925
END:VEVENT

END:VCALENDAR
