BEGIN:VCALENDAR
VERSION:2.0
PRODID:-//ChamberMaster//Event Calendar 2.0//EN
METHOD:PUBLISH
X-PUBLISHED-TTL:P3D
REFRESH-INTERVAL:P3D
CALSCALE:GREGORIAN
BEGIN:VEVENT
DTSTART:20230822T133000Z
DTEND:20230822T150000Z
X-MICROSOFT-CDO-ALLDAYEVENT:FALSE
SUMMARY:Manufacturing Tour
DESCRIPTION:The Colerain community has amazing manufacturing and corporate relationships that will be highlighted through an onsite tour of each this Summer and Fall. The following dates and tours will be a chance for you to ask questions of the respective leadership and see how these Colerain Chamber members conduct their business. Registration will be limited to no more than 20\, so be sure to sign up sooner rather than later.
X-ALT-DESC;FMTTYPE=text/html:<div>&nbsp\;</div>\n\n<div><span style="font-family: Calibri\, Helvetica\, sans-serif\, serif\, EmojiFont\; font-size: 14.6667px\; background-color: rgb(255\, 255\, 255)\;">The Colerain community has amazing manufacturing and corporate relationships that will be highlighted through an onsite tour of each this Summer and Fall. The following dates and tours will be a chance for you to ask questions of the respective leadership and see how these Colerain Chamber members conduct their&nbsp\;business. Registration will be limited to no more than 20\, so be sure to sign up sooner rather than later.&nbsp\;</span></div>\n
LOCATION:We will meet at Duke Energy on Colerain Ave. Lunch location TBD
UID:e.2075.2101
SEQUENCE:3
DTSTAMP:20260423T022630Z
URL:https://business.colerainchamber.org/events/details/manufacturing-tour-2101
END:VEVENT

END:VCALENDAR
