BEGIN:VCALENDAR
VERSION:2.0
PRODID:-//ChamberMaster//Event Calendar 2.0//EN
METHOD:PUBLISH
X-PUBLISHED-TTL:P3D
REFRESH-INTERVAL:P3D
CALSCALE:GREGORIAN
BEGIN:VEVENT
DTSTART:20210617T210000Z
DTEND:20210618T003000Z
X-MICROSOFT-CDO-ALLDAYEVENT:FALSE
SUMMARY:HOMETOWN HERO
DESCRIPTION:Please join the Colerain Chamber of Commerce in recognizing our 2021 Hometown Hero honorees Rob Bilott\, Gary Kasten\, Keva Brice\, Nora Dashley and Lisa Reifenberger. In 2020 during the COVID pandemic we celebrated our local Colerain first responder leadership (Fire\, EMS & Police) along with two local WWII veterans. This year's recipients have given of themselves on behalf of our community in ways that we need to recognize publicly.\n\n\n\nEvent will include:\n\n	Food Trucks & Lots of Food\n	Silent Auction to begin and items made available on or about June 7th\n	Wagon Full of Cheer\n	Pennant Pulls with community business donations\n	Day of Event Games of Chance - Sponsored by area non-profit organizations\n	Photo Opportunities with guest of honor and emcee Rocky Boiman\n	Networking & Social conversation in a casual and festive atmosphere\n\nPromote your business and be a sponsor!\n\nMany sponsorship options and benefits are available starting at $150.00\n\n(if interested please reach out to president@colerainchamber.org for a detailed list of sponsor benefits)\n\nPLATINUM SPONSOR: $5000\n\nGOLD SPONSOR: $3000\n\nSILVER SPONSOR AND FOOD TRUCK SPONSOR: $1250\n\nDESSERT/BAR SPONSOR: $1000\n\nSUPPORT SPONSOR: $750\n\nSIGN SPONSOR: $150\n\n\n\n\n\nTHANK YOU TO OUR SPONSORS:\n\n \n\n	\n		\n	\n	\n		\n			Amerifirst Home Mortgage\n		\n		\n			Arlington Memorial Gardens \n		\n		\n			Blust Motor Service Inc\n		\n		\n			Butler Tech \n		\n		\n			Cincinnati Mine Machinery \n		\n		\n			Cincinnatus Savings and Loan\n		\n		\n			Clippard\n		\n		\n			Clippard Family YMCA\n		\n		\n			Cincinnati Benefit Solutions\n		\n		\n			Clovernook Country Club\n		\n		\n			Duke Energy\n		\n		\n			Emery Federal Credit Union\n		\n		\n			Express Employment Professionals\n		\n		\n			First Financial\n		\n		\n			Jeffrey Allen Corporation\n		\n		\n			Jim Eckhoff Plumbing \n		\n		\n			LCNB\n		\n		\n			Long Schaefer\n		\n		\n			MWG Metalworking Group\n		\n		\n			Mercy Health - West Hospital\n		\n		\n			New Foundation Savings Bank\n		\n		\n			Northside Bank & Trust\n		\n		\n			Pebble Creek Golf Course & Event Center\n		\n		\n			Ritchie's\n		\n		\n			Rumpke \n		\n		\n			Scroggins Grear\n		\n		\n			SOCA\n		\n		\n			Star One\n		\n		\n			The Home At Taylor's Pointe\n		\n		\n			Thrivent Financial\n		\n		\n			Vinebrook Homes\n		\n		\n			Visiting Angels\n		\n		\n			White Oak Garden Center\n		\n	\n\n\n\nFor more information contact Dave Moravec at president@ColerainChamber.org or phone: 513.923.5036.
X-ALT-DESC;FMTTYPE=text/html:Please join the Colerain Chamber of Commerce in recognizing our 2021 Hometown Hero honorees Rob Bilott\, Gary Kasten\, Keva Brice\, Nora Dashley and Lisa Reifenberger. In 2020 during the COVID pandemic we celebrated our local Colerain first responder leadership (Fire\, EMS &amp\; Police) along with two local WWII veterans. This year&#39\;s recipients have given of themselves on behalf of our community in ways that we need to recognize publicly.<br />\n<br />\nEvent will include:\n<ul>\n	<li>Food Trucks &amp\; Lots of Food</li>\n	<li>Silent Auction to begin and items made available on or about June 7th</li>\n	<li>Wagon Full of Cheer</li>\n	<li>Pennant Pulls with community business donations</li>\n	<li>Day of Event Games of Chance - Sponsored by area non-profit organizations</li>\n	<li>Photo Opportunities with guest of honor and emcee Rocky Boiman</li>\n	<li>Networking &amp\; Social conversation in a casual and festive atmosphere</li>\n</ul>\n<strong style="color: rgb(51\, 51\, 51)\; font-family: sans-serif\, Arial\, Verdana\, &quot\;Trebuchet MS&quot\;\; font-size: 13px\; background-color: rgb(255\, 255\, 255)\;"><span style="font-size: 16px\;">Promote your business and be a sponsor!</span><br />\nMany sponsorship options and benefits are available starting at $150.00</strong><br style="color: rgb(51\, 51\, 51)\; font-family: sans-serif\, Arial\, Verdana\, &quot\;Trebuchet MS&quot\;\; font-size: 13px\; background-color: rgb(255\, 255\, 255)\;" />\n<span style="font-family: sans-serif\, Arial\, Verdana\, &quot\;Trebuchet MS&quot\;\; font-size: 13px\; background-color: rgb(255\, 255\, 255)\; color: rgb(255\, 0\, 0)\;">(if interested please reach out to president@colerainchamber.org for a detailed list of sponsor benefits)</span><br />\n<span style="font-family: sans-serif\, Arial\, Verdana\, &quot\;Trebuchet MS&quot\;\; font-size: 13px\; background-color: rgb(255\, 255\, 255)\;">PLATINUM SPONSOR: $5000</span><br />\n<span style="font-family: sans-serif\, Arial\, Verdana\, &quot\;Trebuchet MS&quot\;\; font-size: 13px\; background-color: rgb(255\, 255\, 255)\;">GOLD SPONSOR: $3000</span><br />\nSILVER SPONSOR AND FOOD TRUCK SPONSOR: $1250<br />\nDESSERT/BAR SPONSOR: $1000<br />\nSUPPORT SPONSOR: $750<br />\nSIGN SPONSOR: $150<br />\n<br />\n<br style="box-sizing: content-box\; inset: auto\; clear: none\; color: inherit\; content: normal\; direction: inherit\; display: inline\; empty-cells: show\; float: none\; font: inherit\; letter-spacing: inherit\; margin: 0px\; max-height: none\; max-width: none\; min-height: initial\; min-width: initial\; opacity: 1\; outline-offset: 0px\; overflow: visible\; padding: 0px\; position: static\; resize: none\; table-layout: auto\; text-align: inherit\; text-indent: inherit\; text-overflow: clip\; text-transform: inherit\; vertical-align: baseline\; visibility: inherit\; white-space: inherit\; word-break: inherit\; word-spacing: inherit\; overflow-wrap: inherit\; z-index: auto\; background: none\; border-width: initial\; border-style: none\; border-color: initial\; border-collapse: separate\; border-image: none 100% 1 0 / 1 / 0 stretch\; border-radius: 0px\; height: auto\; width: auto\;" />\n<span style="box-sizing: content-box\; font-weight: bolder\; inset: auto\; clear: none\; color: rgb(14\, 11\, 107)\; content: normal\; direction: inherit\; empty-cells: show\; font-variant-numeric: inherit\; font-variant-east-asian: inherit\; font-stretch: inherit\; font-size: 14px\; font-family: Calibri\, Candara\, Segoe\, &quot\;Segoe UI&quot\;\, Optima\, Arial\, sans-serif\; line-height: inherit\; margin: 0px\; max-height: none\; max-width: none\; min-height: initial\; min-width: initial\; opacity: 1\; outline-offset: 0px\; overflow: visible\; padding: 0px\; position: static\; resize: none\; table-layout: auto\; text-overflow: clip\; vertical-align: baseline\; visibility: inherit\; word-break: inherit\; overflow-wrap: inherit\; z-index: auto\; background: none rgb(255\, 255\, 255)\; border-width: initial\; border-style: none\; border-color: initial\; border-collapse: separate\; border-image: none 100% 1 0 / 1 / 0 stretch\; border-radius: 0px\; height: auto\; width: auto\; box-shadow: none\;"><u style="box-sizing: border-box\;">THANK YOU TO OUR SPONSORS:</u></span><br />\n&nbsp\;\n<table border="0" cellpadding="0" cellspacing="0" style="border-collapse:collapse\;width:267px\;" width="267">\n	<colgroup>\n		<col style="width:267px\;" />\n	</colgroup>\n	<tbody>\n		<tr height="20" style="height:20px\;">\n			<td height="20" style="height:20px\;width:267px\;">Amerifirst Home Mortgage</td>\n		</tr>\n		<tr height="20" style="height:20px\;">\n			<td height="20" style="height:20px\;border-top:none\;width:267px\;">Arlington Memorial Gardens&nbsp\;</td>\n		</tr>\n		<tr height="20" style="height:20px\;">\n			<td height="20" style="height:20px\;border-top:none\;width:267px\;">Blust Motor Service Inc</td>\n		</tr>\n		<tr height="20" style="height:20px\;">\n			<td height="20" style="height:20px\;border-top:none\;width:267px\;">Butler Tech&nbsp\;</td>\n		</tr>\n		<tr height="20" style="height:20px\;">\n			<td height="20" style="height:20px\;border-top:none\;width:267px\;">Cincinnati Mine Machinery&nbsp\;</td>\n		</tr>\n		<tr height="20" style="height:20px\;">\n			<td height="20" style="height:20px\;border-top:none\;width:267px\;">Cincinnatus Savings and Loan</td>\n		</tr>\n		<tr height="20" style="height:20px\;">\n			<td height="20" style="height:20px\;border-top:none\;width:267px\;">Clippard</td>\n		</tr>\n		<tr height="20" style="height:20px\;">\n			<td height="20" style="height:20px\;border-top:none\;width:267px\;">Clippard Family YMCA</td>\n		</tr>\n		<tr height="20" style="height:20px\;">\n			<td height="20" style="height:20px\;border-top:none\;width:267px\;">Cincinnati Benefit Solutions</td>\n		</tr>\n		<tr height="20" style="height:20px\;">\n			<td height="20" style="height:20px\;border-top:none\;">Clovernook Country Club</td>\n		</tr>\n		<tr height="20" style="height:20px\;">\n			<td height="20" style="height:20px\;border-top:none\;">Duke Energy</td>\n		</tr>\n		<tr height="20" style="height:20px\;">\n			<td height="20" style="height:20px\;border-top:none\;">Emery Federal Credit Union</td>\n		</tr>\n		<tr height="20" style="height:20px\;">\n			<td height="20" style="height:20px\;border-top:none\;">Express Employment Professionals</td>\n		</tr>\n		<tr height="20" style="height:20px\;">\n			<td height="20" style="height:20px\;border-top:none\;width:267px\;">First Financial</td>\n		</tr>\n		<tr height="20" style="height:20px\;">\n			<td height="20" style="height:20px\;border-top:none\;width:267px\;">Jeffrey Allen Corporation</td>\n		</tr>\n		<tr height="20" style="height:20px\;">\n			<td height="20" style="height:20px\;border-top:none\;width:267px\;">Jim Eckhoff Plumbing&nbsp\;</td>\n		</tr>\n		<tr height="20" style="height:20px\;">\n			<td height="20" style="height:20px\;border-top:none\;width:267px\;">LCNB</td>\n		</tr>\n		<tr height="20" style="height:20px\;">\n			<td height="20" style="height:20px\;border-top:none\;width:267px\;">Long Schaefer</td>\n		</tr>\n		<tr height="20" style="height:20px\;">\n			<td height="20" style="height:20px\;border-top:none\;width:267px\;">MWG Metalworking Group</td>\n		</tr>\n		<tr height="20" style="height:20px\;">\n			<td height="20" style="height:20px\;border-top:none\;width:267px\;">Mercy Health - West Hospital</td>\n		</tr>\n		<tr height="20" style="height:20px\;">\n			<td height="20" style="height:20px\;border-top:none\;width:267px\;">New Foundation Savings Bank</td>\n		</tr>\n		<tr height="20" style="height:20px\;">\n			<td height="20" style="height:20px\;border-top:none\;width:267px\;">Northside Bank &amp\; Trust</td>\n		</tr>\n		<tr height="20" style="height:20px\;">\n			<td height="20" style="height:20px\;">Pebble Creek Golf Course &amp\; Event Center</td>\n		</tr>\n		<tr height="20" style="height:20px\;">\n			<td height="20" style="height:20px\;width:267px\;">Ritchie&#39\;s</td>\n		</tr>\n		<tr height="20" style="height:20px\;">\n			<td height="20" style="height:20px\;border-top:none\;width:267px\;">Rumpke&nbsp\;</td>\n		</tr>\n		<tr height="20" style="height:20px\;">\n			<td height="20" style="height:20px\;border-top:none\;width:267px\;">Scroggins Grear</td>\n		</tr>\n		<tr height="20" style="height:20px\;">\n			<td height="20" style="height:20px\;border-top:none\;width:267px\;">SOCA</td>\n		</tr>\n		<tr height="20" style="height:20px\;">\n			<td height="20" style="height:20px\;border-top:none\;width:267px\;">Star One</td>\n		</tr>\n		<tr height="20" style="height:20px\;">\n			<td height="20" style="height:20px\;border-top:none\;width:267px\;">The Home At Taylor&#39\;s Pointe</td>\n		</tr>\n		<tr height="20" style="height:20px\;">\n			<td height="20" style="height:20px\;border-top:none\;width:267px\;">Thrivent Financial</td>\n		</tr>\n		<tr height="20" style="height:20px\;">\n			<td height="20" style="height:20px\;border-top:none\;width:267px\;">Vinebrook Homes</td>\n		</tr>\n		<tr height="20" style="height:20px\;">\n			<td height="20" style="height:20px\;border-top:none\;width:267px\;">Visiting Angels</td>\n		</tr>\n		<tr height="20" style="height:20px\;">\n			<td height="20" style="height:20px\;border-top:none\;width:267px\;">White Oak Garden Center</td>\n		</tr>\n	</tbody>\n</table>\n<br style="box-sizing: content-box\; inset: auto\; clear: none\; color: rgb(14\, 11\, 107)\; content: normal\; direction: inherit\; display: inline\; empty-cells: show\; float: none\; font-variant-numeric: inherit\; font-variant-east-asian: inherit\; font-stretch: inherit\; font-size: 14px\; font-family: Calibri\, Candara\, Segoe\, &quot\;Segoe UI&quot\;\, Optima\, Arial\, sans-serif\; line-height: inherit\; margin: 0px\; max-height: none\; max-width: none\; min-height: initial\; min-width: initial\; opacity: 1\; outline-offset: 0px\; overflow: visible\; padding: 0px\; position: static\; resize: none\; table-layout: auto\; text-overflow: clip\; vertical-align: baseline\; visibility: inherit\; word-break: inherit\; overflow-wrap: inherit\; z-index: auto\; background: none rgb(255\, 255\, 255)\; border-width: initial\; border-style: none\; border-color: initial\; border-collapse: separate\; border-image: none 100% 1 0 / 1 / 0 stretch\; border-radius: 0px\; height: auto\; width: auto\;" />\n<span style="color: rgb(14\, 11\, 107)\; font-family: Calibri\, Candara\, Segoe\, &quot\;Segoe UI&quot\;\, Optima\, Arial\, sans-serif\; font-size: 14px\; background-color: rgb(255\, 255\, 255)\;">For more information contact Dave Moravec at president</span><a href="mailto:President@ColerainChamber.org" style="box-sizing: content-box\; background: none rgb(255\, 255\, 255)\; color: rgb(152\, 27\, 27)\; text-decoration-line: none\; inset: auto\; clear: none\; content: normal\; direction: inherit\; display: inline\; empty-cells: show\; float: none\; font-variant-numeric: inherit\; font-variant-east-asian: inherit\; font-stretch: inherit\; font-size: 14px\; font-family: Calibri\, Candara\, Segoe\, &quot\;Segoe UI&quot\;\, Optima\, Arial\, sans-serif\; line-height: inherit\; margin: 0px\; max-height: none\; max-width: none\; min-height: initial\; min-width: initial\; opacity: 1\; outline-offset: 0px\; overflow: visible\; padding: 0px\; position: static\; resize: none\; table-layout: auto\; text-overflow: clip\; vertical-align: baseline\; visibility: inherit\; word-break: inherit\; overflow-wrap: break-word\; z-index: auto\; border-width: initial\; border-style: none\; border-color: initial\; border-collapse: separate\; border-image: none 100% 1 0 / 1 / 0 stretch\; border-radius: 0px\; height: auto\; width: auto\; box-shadow: none\;">@ColerainChamber.org</a><span style="color: rgb(14\, 11\, 107)\; font-family: Calibri\, Candara\, Segoe\, &quot\;Segoe UI&quot\;\, Optima\, Arial\, sans-serif\; font-size: 14px\; background-color: rgb(255\, 255\, 255)\;">&nbsp\;or phone: 513.923.5036.</span>
LOCATION:Willow Event Center 7881 Colerain Avenue\, 45239 513-931-2261
UID:e.2075.1539
SEQUENCE:3
DTSTAMP:20260421T103506Z
URL:https://business.colerainchamber.org/events/details/hometown-hero-1539
END:VEVENT

END:VCALENDAR
