BEGIN:VCALENDAR
VERSION:2.0
PRODID:-//ChamberMaster//Event Calendar 2.0//EN
METHOD:PUBLISH
X-PUBLISHED-TTL:P3D
REFRESH-INTERVAL:P3D
CALSCALE:GREGORIAN
BEGIN:VEVENT
DTSTART:20260319T210000Z
DTEND:20260320T000000Z
X-MICROSOFT-CDO-ALLDAYEVENT:FALSE
SUMMARY:Dave's Retirement Celebration THIRD THURSDAY
DESCRIPTION:Join us for a very special Third Thursday on March 19th at Clovernook Country Club as we come together to celebrate Dave Moravec's retirement from the Colerain Chamber. This evening will be a wonderful opportunity to say thank you to Dave for his six years of dedicated leadership\, support\, and service to our members and the broader community. We hope you'll join us to share stories\, express your appreciation\, and help us honor the impact Dave has made on the Colerain Chamber and our township. And a special thanks to the First Lady of the Chamber\, Patti!
X-ALT-DESC;FMTTYPE=text/html:Join us for a very special Third Thursday on <strong data-end="86" data-start="45">March 19th at Clovernook Country Club</strong> as we come together to celebrate <strong data-end="149" data-start="120">Dave Moravec&rsquo\;s retirement</strong> from the Colerain Chamber. This evening will be a wonderful opportunity to say thank you to Dave for his six years of dedicated leadership\, support\, and service to our members and the broader community. We hope you&rsquo\;ll join us to share stories\, express your appreciation\, and help us honor the impact Dave has made on the Colerain Chamber and our township. And a special thanks to the First Lady of the Chamber\, Patti!&nbsp\;<br />\n&nbsp\;
LOCATION:Clovernook Country Club 2035 W. Galbraith Road Cincinnati\, OH 45239
UID:e.2075.3492
SEQUENCE:3
DTSTAMP:20260421T110605Z
URL:https://business.colerainchamber.org/events/details/dave-s-retirement-celebration-third-thursday-3492
END:VEVENT

END:VCALENDAR
