BEGIN:VCALENDAR
VERSION:2.0
PRODID:-//ChamberMaster//Event Calendar 2.0//EN
METHOD:PUBLISH
X-PUBLISHED-TTL:P3D
REFRESH-INTERVAL:P3D
CALSCALE:GREGORIAN
BEGIN:VEVENT
DTSTART:20230809T120000Z
DTEND:20230809T160000Z
X-MICROSOFT-CDO-ALLDAYEVENT:FALSE
SUMMARY:Colerain Health & Safety Fair - NWLSD & Colerain HOPE
DESCRIPTION:This Health & Safety Fair has been held for over 20 years at Northgate Mall. Additional information to follow
X-ALT-DESC;FMTTYPE=text/html:This Health &amp\; Safety Fair has been held for over 20 years at Northgate Mall. Additional information to follow
LOCATION:Northgate Mall - Center Court through the Mall
UID:e.2075.1965
SEQUENCE:3
DTSTAMP:20260423T013021Z
URL:https://business.colerainchamber.org/events/details/colerain-health-safety-fair-nwlsd-colerain-hope-1965
END:VEVENT

END:VCALENDAR
