BEGIN:VCALENDAR
VERSION:2.0
PRODID:-//ChamberMaster//Event Calendar 2.0//EN
METHOD:PUBLISH
X-PUBLISHED-TTL:P3D
REFRESH-INTERVAL:P3D
CALSCALE:GREGORIAN
BEGIN:VEVENT
DTSTART:20221208T210000Z
DTEND:20221208T230000Z
X-MICROSOFT-CDO-ALLDAYEVENT:FALSE
SUMMARY:Colerain H.O.P.E. (Helping Our People Everyday)
DESCRIPTION:Open to organizations that are considered non-profit in the 501 c-3 category\, Colerain H.O.P.E. brings together resources required for non-profit and church organizations to thrive. This group meets on the 2nd Thursday with a different host organization each month. \n\n\n\nThis is a by-invitation only event\, hosted in celebration of the non-profit work we've been able to accomplish this year!
X-ALT-DESC;FMTTYPE=text/html:<span style="font-size:16px\;"><span style="color:#000080\;"><strong><span style="font-family: Calibri\, Helvetica\, sans-serif\, serif\, EmojiFont\; background-color: rgb(255\, 255\, 255)\;">Open to organizations that are considered non-profit in the 501 c-3 category\, Colerain H.O.P.E. brings together resources required for non-profit and church organizations to thrive. This group meets on the 2nd Thursday with a different host organization each month.&nbsp\;<br />\n<br />\nThis is a by-invitation only event\, hosted in celebration of the non-profit work we&#39\;ve been able to accomplish this year!</span></strong></span></span>
LOCATION:Side by Side\, Lovingly Empowered by BLOC Ministries 12172 Huntergreen Dr. Cincinnati\, Ohio 45251 Hosted by Gail Nolte and Dale Beck FUTURE MEETINGS - Second Thursday from 4pm - 5pm January 12th - LaSalle High School - Guest Speaker Dean Ferrier - www.TeamUpToGreenUp.org February 9th - Houston Early Learning Center March 9th - Clippard YMCA
UID:e.2075.1845
SEQUENCE:3
DTSTAMP:20260422T205931Z
URL:https://business.colerainchamber.org/events/details/colerain-h-o-p-e-helping-our-people-everyday-1845
END:VEVENT

END:VCALENDAR
