BEGIN:VCALENDAR
VERSION:2.0
PRODID:-//ChamberMaster//Event Calendar 2.0//EN
METHOD:PUBLISH
X-PUBLISHED-TTL:P3D
REFRESH-INTERVAL:P3D
CALSCALE:GREGORIAN
BEGIN:VEVENT
DTSTART:20260312T200000Z
DTEND:20260312T210000Z
X-MICROSOFT-CDO-ALLDAYEVENT:FALSE
SUMMARY:Colerain H.O.P.E. (Helping Our People Everyday)
DESCRIPTION:Are you a 501 c-3 organization?\n\nAre you looking to tell your story?\n\nAre you looking for volunteers and to promote your events?\n\n \n\nThis group is open to non-profit organizations that would benefit from networking with other non-profits in the area and sharing resources. The Colerain H.O.P.E. has a purpose driven mission and intends to support community events each year - Health & Safety Fair (August) and Colerain Giveback Day (November). This group meets regularly on the 2nd Thursday of the month at 4:00pm and networking starts at 3:30pm. \n\n \n\nPurpose: Address community challenges together and support one another\n\n \n\nObjective: Come together to support one event quarterly in the community\n\n \n\nFocus: Children\, Youth\, Seniors\, Environment \n\n \n\nPlease reach out to Gail Nolte at gmnolte@gmail.com for additional details.
X-ALT-DESC;FMTTYPE=text/html:<div style="background-color: rgb(255\, 255\, 255)\; color: rgb(64\, 63\, 66)\; font-family: Arial\, Verdana\, Helvetica\, sans-serif\; font-size: 14px\;"><span style="color: rgb(14\, 11\, 107)\;">Are you a 501 c-3 organization?</span></div>\n\n<div style="background-color: rgb(255\, 255\, 255)\; color: rgb(64\, 63\, 66)\; font-family: Arial\, Verdana\, Helvetica\, sans-serif\; font-size: 14px\;"><span style="color: rgb(14\, 11\, 107)\;">Are you looking to tell your story?</span></div>\n\n<div style="background-color: rgb(255\, 255\, 255)\; color: rgb(64\, 63\, 66)\; font-family: Arial\, Verdana\, Helvetica\, sans-serif\; font-size: 14px\;"><span style="color: rgb(14\, 11\, 107)\;">Are you looking for volunteers and to promote your events?</span></div>\n\n<div style="background-color: rgb(255\, 255\, 255)\; color: rgb(64\, 63\, 66)\; font-family: Arial\, Verdana\, Helvetica\, sans-serif\; font-size: 14px\;">&nbsp\;</div>\n\n<div style="background-color: rgb(255\, 255\, 255)\; color: rgb(64\, 63\, 66)\; font-family: Arial\, Verdana\, Helvetica\, sans-serif\; font-size: 14px\;"><span style="color: rgb(14\, 11\, 107)\;">This group is open to non-profit organizations that would benefit from networking with other non-profits in the area and sharing resources. The Colerain H.O.P.E. has a purpose driven mission and intends to support community events each year - Health &amp\; Safety Fair (August) and Colerain Giveback Day (November). This group meets regularly&nbsp\;on the 2nd Thursday of the month at 4:00pm&nbsp\;and networking starts at 3:30pm.&nbsp\;</span></div>\n\n<div align="center" style="background-color: rgb(255\, 255\, 255)\; color: rgb(64\, 63\, 66)\; font-family: Arial\, Verdana\, Helvetica\, sans-serif\; font-size: 14px\; text-align: center\;">&nbsp\;</div>\n\n<div style="background-color: rgb(255\, 255\, 255)\; color: rgb(64\, 63\, 66)\; font-family: Arial\, Verdana\, Helvetica\, sans-serif\; font-size: 14px\;"><span style="color: rgb(14\, 11\, 107)\; font-weight: bold\;">Purpose:</span><span style="color: rgb(14\, 11\, 107)\;">&nbsp\;Address community challenges together and support one another</span></div>\n\n<div style="background-color: rgb(255\, 255\, 255)\; color: rgb(64\, 63\, 66)\; font-family: Arial\, Verdana\, Helvetica\, sans-serif\; font-size: 14px\;">&nbsp\;</div>\n\n<div style="background-color: rgb(255\, 255\, 255)\; color: rgb(64\, 63\, 66)\; font-family: Arial\, Verdana\, Helvetica\, sans-serif\; font-size: 14px\;"><span style="color: rgb(14\, 11\, 107)\; font-weight: bold\;">Objective:</span><span style="color: rgb(14\, 11\, 107)\;">&nbsp\;Come together to support one event quarterly in the community</span></div>\n\n<div style="background-color: rgb(255\, 255\, 255)\; color: rgb(64\, 63\, 66)\; font-family: Arial\, Verdana\, Helvetica\, sans-serif\; font-size: 14px\;">&nbsp\;</div>\n\n<div style="background-color: rgb(255\, 255\, 255)\; color: rgb(64\, 63\, 66)\; font-family: Arial\, Verdana\, Helvetica\, sans-serif\; font-size: 14px\;"><span style="color: rgb(14\, 11\, 107)\; font-weight: bold\;">Focus:</span><span style="color: rgb(14\, 11\, 107)\;">&nbsp\;Children\, Youth\, Seniors\, Environment&nbsp\;</span></div>\n\n<div align="center" style="background-color: rgb(255\, 255\, 255)\; color: rgb(64\, 63\, 66)\; font-family: Arial\, Verdana\, Helvetica\, sans-serif\; font-size: 14px\; text-align: center\;">&nbsp\;</div>\n\n<div style="background-color: rgb(255\, 255\, 255)\; color: rgb(64\, 63\, 66)\; font-family: Arial\, Verdana\, Helvetica\, sans-serif\; font-size: 14px\;"><span style="color: rgb(14\, 11\, 107)\; font-weight: bold\;">Please reach out to Gail Nolte at gmnolte@gmail.com for additional details.</span></div>\n
LOCATION:Upcoming meetings will be held at White Oak Christian Church. Dates in 2026 : January 8th February 12th March 12th April 9th May 14th June 11th July 9th August 13th September 10th October 8th November 12th December 3rd (at Side by Side Hub for Holiday Party)
UID:e.2075.3519
SEQUENCE:3
DTSTAMP:20260421T104232Z
URL:https://business.colerainchamber.org/events/details/colerain-h-o-p-e-helping-our-people-everyday-03-12-2026-3519
END:VEVENT

END:VCALENDAR
