BEGIN:VCALENDAR
VERSION:2.0
PRODID:-//ChamberMaster//Event Calendar 2.0//EN
METHOD:PUBLISH
X-PUBLISHED-TTL:P3D
REFRESH-INTERVAL:P3D
CALSCALE:GREGORIAN
BEGIN:VEVENT
DTSTART:20230314T160000Z
DTEND:20230314T173000Z
X-MICROSOFT-CDO-ALLDAYEVENT:FALSE
SUMMARY:CHAMBER WOMEN'S NETWORKING GROUP March 2023
DESCRIPTION:This popular group meets the second Tuesday of each month!\n\n\n\nCome join us - We're sharing our experiences and talking about topics that affect working women. \n\n\n\nPlease RSVP to the Colerain Chamber by Monday March 13th so we know you are joining us.\n\n\n\nNew Chamber Members are always welcome\, so come on over and join us! Prospective new members may attend lunch once as a guest before joining the Chamber.
X-ALT-DESC;FMTTYPE=text/html:<span style="font-family: arial\; font-size: 14px\;"><strong>This popular group meets the second Tuesday of each month!<br />\n<br />\nCome join us -&nbsp\;</strong>We&#39\;re sharing our experiences and&nbsp\;talking about topics that affect working women.&nbsp\;</span><br />\n<br />\n<span style="font-family:arial\;"><span style="font-size:14px\;"><strong>Please RSVP to the Colerain Chamber by Monday March 13th so we know you are joining us.</strong><br />\n<br />\nNew Chamber Members are always welcome\, so come on over and join us! Prospective new members may attend lunch once as a guest before joining the Chamber.</span></span><br />\n<br />\n&nbsp\;
LOCATION:New Chamber Member: El Trompo Mexican Grill 3659 Stone Creek Blvd. Suite D Cincinnati\, OH 45251
UID:e.2075.1860
SEQUENCE:3
DTSTAMP:20260422T165501Z
URL:https://business.colerainchamber.org/events/details/chamber-women-s-networking-group-march-2023-1860
END:VEVENT

END:VCALENDAR
