BEGIN:VCALENDAR
VERSION:2.0
PRODID:-//ChamberMaster//Event Calendar 2.0//EN
METHOD:PUBLISH
X-PUBLISHED-TTL:P3D
REFRESH-INTERVAL:P3D
CALSCALE:GREGORIAN
BEGIN:VEVENT
DTSTART:20230214T170000Z
DTEND:20230214T183000Z
X-MICROSOFT-CDO-ALLDAYEVENT:FALSE
SUMMARY:CHAMBER WOMEN'S NETWORKING GROUP Feb 2023
DESCRIPTION:We welcome Chamber Member\, Elizabeth Martini with Bricker & Eckler Attorney's at Law as this months speaker. Liz will be speaking on the topic of Business Succession Planning.  \n\n\n\nLiz is a seasoned legal professional who\, for more than 30 years\, has provided counsel to corporations and small and large businesses\, particularly within the financial services and insurance industries. As someone who has held both leadership and board executive positions\, she is known for developing creative solutions and facilitating change for businesses. She is strategic\, collaborative and energetic\, offering varied and excellent representation.\n\n\n\n\n\n\n\n\n\n\n\nThis popular group meets the second Tuesday of each month!\n\n\n\nCome join us - We're sharing our experiences and talking about topics that affect working women. \n\n\n\nPlease RSVP to the Colerain Chamber by Monday Feb. 13th so we know you are joining us.\n\n\n\nNew Chamber Members are always welcome\, so come on over and join us! Prospective new members may attend lunch once as a guest before joining the Chamber.
X-ALT-DESC;FMTTYPE=text/html:<span style="font-family:arial\;"><strong><span style="font-size: 12px\;">We welcome Chamber Member\, Elizabeth Martini with Bricker &amp\; Eckler Attorney&#39\;s at Law as this months speaker. Liz will be speaking on the topic of Business Succession Planning.&nbsp\;</span>&nbsp\;</strong><br />\n<br />\nLiz is<strong> </strong>a<strong>&nbsp\;</strong><span style="background-color: rgb(255\, 255\, 255)\;">seasoned legal professional who\, for more than 30 years\, has provided counsel to corporations and small and large businesses\, particularly within the financial services and insurance industries. As someone who has held both leadership and board executive positions\, she is known for developing creative solutions and facilitating change for businesses. She is strategic\, collaborative and energetic\, offering varied and excellent representation.</span><br />\n<br />\n<br />\n<br />\n<br />\n<br />\n<strong>This popular group meets the second Tuesday of each month!<br />\n<br />\nCome join us -&nbsp\;</strong>We&#39\;re sharing our experiences and&nbsp\;talking about topics that affect working women.&nbsp\;<br />\n<br />\n<strong>Please RSVP to the Colerain Chamber by Monday Feb. 13th so we know you are joining us.</strong><br />\n<br />\nNew Chamber Members are always welcome\, so come on over and join us! Prospective new members may attend lunch once as a guest before joining the Chamber.</span><br />\n<br />\n&nbsp\;
LOCATION:Chamber Member : LaRosa's Stone Creek 3657 Stone Creek Blvd Cincinnati\, OH 45251
UID:e.2075.1859
SEQUENCE:3
DTSTAMP:20260422T181057Z
URL:https://business.colerainchamber.org/events/details/chamber-women-s-networking-group-feb-2023-1859
END:VEVENT

END:VCALENDAR
