BEGIN:VCALENDAR
VERSION:2.0
PRODID:-//ChamberMaster//Event Calendar 2.0//EN
METHOD:PUBLISH
X-PUBLISHED-TTL:P3D
REFRESH-INTERVAL:P3D
CALSCALE:GREGORIAN
BEGIN:VEVENT
DTSTART:20221213T170000Z
DTEND:20221213T183000Z
X-MICROSOFT-CDO-ALLDAYEVENT:FALSE
SUMMARY:CHAMBER WOMEN'S NETWORKING GROUP
DESCRIPTION:This month we have the great opportunity to have Dr. Angela Crawford as our speaker.  \n\n\n\nTopic: 7 Steps to Personal Branding Success \n\n\n\nDr. Crawford comes with over 20 years of senior level roles with Fortune 500 companies and 6 years in higher education.  Beginning her career in operations and then shifting into leading sales\, marketing\, customer experience and research.  She focuses on teaching organizations how to develop winning strategies\, improve marketing\, develop leaders and create cultures where customers and employees experience positive. \n\n\n\nPlease RSVP to the Colerain Chamber by Monday December 12th so we know you're joining.\n\n\n\nNew Chamber Members are always welcome\, so come on over and join us! Prospective new members may attend lunch once as a guest before joining the Chamber.
X-ALT-DESC;FMTTYPE=text/html:<span style="font-family:arial\;"><span style="font-size:14px\;"><strong>This month we have the great opportunity to have Dr. Angela Crawford as our speaker.&nbsp\;&nbsp\;<br />\n<br />\nTopic: 7 Steps to Personal Branding Success&nbsp\;<br />\n<br />\nDr. Crawford comes with over 20 years of senior level roles with Fortune 500 companies and 6 years in higher education.&nbsp\; Beginning her career in operations and then shifting into leading sales\, marketing\, customer experience and research.&nbsp\; She focuses on teaching organizations how to develop winning strategies\, improve marketing\, develop leaders and create cultures where customers and employees experience positive.&nbsp\;</strong><br />\n<br />\n<strong>Please RSVP to the Colerain Chamber by Monday December 12th so we know you&#39\;re joining.</strong><br />\n<br />\nNew Chamber Members are always welcome\, so come on over and join us! Prospective new members may attend lunch once as a guest before joining the Chamber.</span></span>
LOCATION:Clovernook Country Club Speaker : Angela C. Crawford\, PhD CMO & Consulting Partner Leadership Excelleration\, Inc.
UID:e.2075.1837
SEQUENCE:3
DTSTAMP:20260422T205650Z
URL:https://business.colerainchamber.org/events/details/chamber-women-s-networking-group-1837
END:VEVENT

END:VCALENDAR
