BEGIN:VCALENDAR
VERSION:2.0
PRODID:-//ChamberMaster//Event Calendar 2.0//EN
METHOD:PUBLISH
X-PUBLISHED-TTL:P3D
REFRESH-INTERVAL:P3D
CALSCALE:GREGORIAN
BEGIN:VEVENT
DTSTART:20221011T160000Z
DTEND:20221011T173000Z
X-MICROSOFT-CDO-ALLDAYEVENT:FALSE
SUMMARY:CHAMBER WOMEN'S NETWORKING GROUP
DESCRIPTION:This popular group meets the second Tuesday of each month!\n\n\n\nCome join us - We're sharing our experiences and talking about topics that affect working women. This month\, (rescheduled from last month) executive coach Jim Diebold will be back leading the conversation on time management and the struggles we have today with balancing work and life.\n\n\n\nPlease RSVP to the Colerain Chamber by Monday October 10th so we know you are joining us.\n\n\n\nNew Chamber Members are always welcome\, so come on over and join us! Prospective new members may attend lunch once as a guest before joining the Chamber.
X-ALT-DESC;FMTTYPE=text/html:<span style="font-family: arial\; font-size: 14px\;"><strong>This popular group meets the second Tuesday of each month!</strong></span><br />\n<br />\n<strong style="color: rgb(51\, 51\, 51)\; font-family: arial\; font-size: 14px\; background-color: rgb(255\, 255\, 255)\;">Come join us -&nbsp\;</strong><span style="color: rgb(51\, 51\, 51)\; font-family: arial\; font-size: 14px\; background-color: rgb(255\, 255\, 255)\;">We&#39\;re sharing our experiences and&nbsp\;talking about topics that affect working women. This month\, (rescheduled from last month) executive coach Jim Diebold will be back leading the conversation on time management and the struggles we have today with balancing work and life.</span><br />\n<br />\n<span style="font-family:arial\;"><span style="font-size:14px\;"><strong>Please RSVP to the Colerain Chamber by Monday October 10th so we know you are joining us.</strong><br />\n<br />\nNew Chamber Members are always welcome\, so come on over and join us! Prospective new members may attend lunch once as a guest before joining the Chamber.</span></span><br />\n<br />\n&nbsp\;
LOCATION:Colerain LaRosa's 3657 Stonecreek Blvd. Cincinnati\, OH 45251
UID:e.2075.1836
SEQUENCE:3
DTSTAMP:20260423T004911Z
URL:https://business.colerainchamber.org/events/details/chamber-women-s-networking-group-1836
END:VEVENT

END:VCALENDAR
