BEGIN:VCALENDAR
VERSION:2.0
PRODID:-//ChamberMaster//Event Calendar 2.0//EN
METHOD:PUBLISH
X-PUBLISHED-TTL:P3D
REFRESH-INTERVAL:P3D
CALSCALE:GREGORIAN
BEGIN:VEVENT
DTSTART:20220913T160000Z
DTEND:20220913T173000Z
X-MICROSOFT-CDO-ALLDAYEVENT:FALSE
SUMMARY:CHAMBER WOMEN'S NETWORKING GROUP
DESCRIPTION:This popular group meets the second Tuesday of each month!\n\n\n\nCome join us - We're sharing our experiences and talking about topics that affect working women. This month\, executive coach Jim Diebold will be back leading the conversation on time management and the struggles we have today with balancing work and life.\n\n\n\nPlease RSVP to the Colerain Chamber by Monday September 12th so we know you are joining us.\n\n\n\nNew Chamber Members are always welcome\, so come on over and join us! Prospective new members may attend lunch once as a guest before joining the Chamber.
X-ALT-DESC;FMTTYPE=text/html:<span style="font-family: arial\; font-size: 14px\;"><strong>This popular group meets the second Tuesday of each month!<br />\n<br />\nCome join us -&nbsp\;</strong>We&#39\;re sharing our experiences and&nbsp\;talking about topics that affect working women. This month\, executive coach Jim Diebold will be back leading the conversation on time management and the struggles we have today with balancing work and life.</span><br />\n<br />\n<span style="font-family:arial\;"><span style="font-size:14px\;"><strong>Please RSVP to the Colerain Chamber by Monday September 12th so we know you are joining us.</strong><br />\n<br />\nNew Chamber Members are always welcome\, so come on over and join us! Prospective new members may attend lunch once as a guest before joining the Chamber.</span></span><br />\n<br />\n&nbsp\;
LOCATION:Red Lobster Restaurant - Banquet Room 3564 Springdale Road Cincinnati\, OH 45251
UID:e.2075.1835
SEQUENCE:3
DTSTAMP:20260423T020720Z
URL:https://business.colerainchamber.org/events/details/chamber-women-s-networking-group-1835
END:VEVENT

END:VCALENDAR
