BEGIN:VCALENDAR
VERSION:2.0
PRODID:-//ChamberMaster//Event Calendar 2.0//EN
METHOD:PUBLISH
X-PUBLISHED-TTL:P3D
REFRESH-INTERVAL:P3D
CALSCALE:GREGORIAN
BEGIN:VEVENT
DTSTART:20260414T160000Z
DTEND:20260414T173000Z
X-MICROSOFT-CDO-ALLDAYEVENT:FALSE
SUMMARY:CHAMBER WOMEN'S NETWORKING GROUP
DESCRIPTION:This popular group meets the second Tuesday of each month!\n\n\n\nCome join us - We're sharing our experiences and talking about topics that affect working women. This is a great networking group of supportive women.  \n\n\n\nPlease RSVP to the Colerain Chamber so we know you are joining us.\n\n\n\nNew Chamber Members are always welcome\, so come and join us! Prospective new members may attend lunch once as a guest before joining the Chamber.\n\n\n\nIf your organization has room to host 30-35 ladies for a monthly lunch please let us know.  We would love to spotlight your location.  There is not requirements on your part except to provide a location for us to sit.  We take care of all the other details.
X-ALT-DESC;FMTTYPE=text/html:<span style="font-family: arial\; font-size: 14px\;"><strong>This popular group meets the second Tuesday of each month!<br />\n<br />\nCome join us -&nbsp\;</strong>We&#39\;re sharing our experiences and&nbsp\;talking about topics that affect working women. This is a great networking group of supportive women.&nbsp\;&nbsp\;</span><br />\n<br />\n<span style="font-family:arial\;"><span style="font-size:14px\;"><strong>Please RSVP to the Colerain Chamber so we know you are joining us.</strong><br />\n<br />\nNew Chamber Members are always welcome\, so come and join us! Prospective new members may attend lunch once as a guest before joining the Chamber.</span></span><br />\n<br />\nIf your organization has room to host 30-35 ladies for a monthly lunch please let us know.&nbsp\; We would love to spotlight your location.&nbsp\; There is not requirements on your part except to provide a location for us to sit.&nbsp\; We take care of all the other details.&nbsp\;&nbsp\;
LOCATION:This month's location: ArtsConnect Springfield Township 9158 Winton Road Cincinnati\, OH 45231
UID:e.2075.3481
SEQUENCE:3
DTSTAMP:20260421T115524Z
URL:https://business.colerainchamber.org/events/details/chamber-women-s-networking-group-04-14-2026-3481
END:VEVENT

END:VCALENDAR
