BEGIN:VCALENDAR
VERSION:2.0
PRODID:-//ChamberMaster//Event Calendar 2.0//EN
METHOD:PUBLISH
X-PUBLISHED-TTL:P3D
REFRESH-INTERVAL:P3D
CALSCALE:GREGORIAN
BEGIN:VEVENT
DTSTART:20221215T223000Z
DTEND:20221216T013000Z
X-MICROSOFT-CDO-ALLDAYEVENT:FALSE
SUMMARY:Chamber Holiday Party
DESCRIPTION:Join us for Holiday merriment at our LARGEST gathering of the year as we come together and celebrate another successful year!\n\n \n\n\nThis year's event theme will be a Celebration of HOLIDAY MOVIES! \n\n(Think Grinch\, Charlie Brown\, Miracle on 34th Street\, Elf and so many more!) \n\n \n\nCome celebrate the Holidays with your Colerain Chamber co-workers & friends! \n\n \n\nSoft drinks\, appetizers\, fun activities\, and cash bar!  \n\n\n\nWith this free event enjoy hors d'oeuvres\, & 1 drink ticket (thanks to our event sponsor Vinebrook Homes!)\n\n\n\nWe will have 12 fantastic\, themed raffle baskets\, all valued over $100 each.  Each person attending will receive one free raffle ticket.  Additional tickets will be available $1 a ticket or 25 tickets for $20. \n\n\n\nWant to win some extra holiday spending cash.... we will have a split the pot game for $5 per ticket. \n\n \n\n If you would like to avoid writing your name on extra raffle or split the pot tickets\, feel free to pre-purchase them on the event page and they will be pre-printed for you.  \n\n \n\n \n\nNot sure what to wear?  Like to win extra prizes?  Don a costume of your favorite Holiday Movie Character!  If you come in Costume you will receive one additional drink ticket and you will be eligible for additional prizes!
X-ALT-DESC;FMTTYPE=text/html:<div align="center" style="margin: 0px\; padding: 0px\; border: 0px\; font-variant-numeric: inherit\; font-variant-east-asian: inherit\; font-stretch: inherit\; font-size: 14px\; line-height: inherit\; font-family: Arial\, Verdana\, Helvetica\, sans-serif\; vertical-align: baseline\; color: rgb(64\, 63\, 66)\; background-color: rgb(255\, 255\, 255)\; text-align: center\;"><strong><span style="color:#008000\;"><span style="margin: 0px\; padding: 0px\; border: 0px\; font-style: inherit\; font-variant: inherit\; font-weight: bold\; font-stretch: inherit\; font-size: inherit\; line-height: inherit\; font-family: inherit\; vertical-align: baseline\;">Join us for Holiday merriment at our LARGEST&nbsp\;gathering of the year as we come together and celebrate another successful year!</span></span></strong></div>\n\n<div style="margin: 0px\; padding: 0px\; border: 0px\; font-variant-numeric: inherit\; font-variant-east-asian: inherit\; font-stretch: inherit\; font-size: 14px\; line-height: inherit\; font-family: Arial\, Verdana\, Helvetica\, sans-serif\; vertical-align: baseline\; color: rgb(64\, 63\, 66)\; background-color: rgb(255\, 255\, 255)\;">&nbsp\;</div>\n\n<div style="margin: 0px\; padding: 0px\; border: 0px\; font-variant-numeric: inherit\; font-variant-east-asian: inherit\; font-stretch: inherit\; line-height: inherit\; vertical-align: baseline\; background-color: rgb(255\, 255\, 255)\;">\n<p class="x_MsoNormal" style="font-size: 11pt\; margin: 0in\; background-color: rgb(255\, 255\, 255)\;"><strong><span style="color:#B22222\;"><font face="Sagona Book\, serif">This year&#39\;s event theme will be a </font></span><span style="color:#008000\;"><span style="font-size:18px\;"><em><font face="Sagona Book\, serif">Celebration of HOLIDAY&nbsp\;MOVIES!</font></em></span></span><font color="#b22222" face="Sagona Book\, serif"><em> </em></font><br />\n<span style="color:#B22222\;"><font face="Sagona Book\, serif">(Think Grinch\, Charlie Brown\, Miracle on 34th Street\, Elf and so many more!)&nbsp\;</font></span></strong><br />\n&nbsp\;</p>\n\n<p class="x_MsoNormal" style="margin: 0in\; background-color: rgb(255\, 255\, 255)\;"><strong><span style="margin: 0px\; padding: 0px\; border: 0px\; font-variant-numeric: inherit\; font-variant-east-asian: inherit\; font-stretch: inherit\; line-height: inherit\; vertical-align: baseline\;"><font face="Sagona Book\, serif" style="color: rgb(178\, 34\, 34)\; font-family: Calibri\, sans-serif\; font-size: 11pt\;"><span style="font-style: inherit\; font-variant-ligatures: inherit\; font-variant-caps: inherit\; font-weight: inherit\;">Come celebrate the Holidays with your Colerain Chamber co-workers &amp\; friends!&nbsp\;</span></font></span></strong></p>\n\n<div>&nbsp\;</div>\n\n<div><strong><span style="color: rgb(178\, 34\, 34)\; font-family: &quot\;Sagona Book&quot\;\, serif\; font-size: 14.6667px\; font-weight: 700\; background-color: rgb(255\, 255\, 255)\;">Soft drinks\, appetizers\, fun activities\, and cash bar!&nbsp\;&nbsp\;</span></strong></div>\n\n<p class="x_MsoNormal" style="margin: 0in\; background-color: rgb(255\, 255\, 255)\;"><br />\n<strong><span style="margin: 0px\; padding: 0px\; border: 0px\; font-variant-numeric: inherit\; font-variant-east-asian: inherit\; font-stretch: inherit\; line-height: inherit\; vertical-align: baseline\;"><font face="Sagona Book\, serif" style="color: rgb(178\, 34\, 34)\; font-family: Calibri\, sans-serif\; font-size: 11pt\;"><span style="font-style: inherit\; font-variant-ligatures: inherit\; font-variant-caps: inherit\; font-weight: inherit\;">With this&nbsp\;free event enjoy&nbsp\;hors d&#39\;oeuvres\, &amp\; 1 drink ticket (thanks to our event&nbsp\;sponsor Vinebrook Homes!)</span></font></span><br />\n<br />\n<span style="margin: 0px\; padding: 0px\; border: 0px\; font-variant-numeric: inherit\; font-variant-east-asian: inherit\; font-stretch: inherit\; line-height: inherit\; vertical-align: baseline\;"><font face="Sagona Book\, serif" style="color: rgb(178\, 34\, 34)\; font-family: Calibri\, sans-serif\; font-size: 11pt\;"><span style="font-style: inherit\; font-variant-ligatures: inherit\; font-variant-caps: inherit\; font-weight: inherit\;">We will have 12 </span></font><font color="#b22222" face="Sagona Book\, serif"><span style="font-size: 14.6667px\;">fantastic\, themed</span></font><font face="Sagona Book\, serif" style="color: rgb(178\, 34\, 34)\; font-family: Calibri\, sans-serif\; font-size: 11pt\;"><span style="font-style: inherit\; font-variant-ligatures: inherit\; font-variant-caps: inherit\; font-weight: inherit\;">&nbsp\;raffle baskets\, all valued over $100 each.&nbsp\; Each person attending will receive one free raffle ticket.&nbsp\; Additional tickets will be available $1 a ticket or 25 tickets for $20.&nbsp\;</span></font></span><br />\n<br />\n<span style="color: rgb(178\, 34\, 34)\; font-family: Calibri\, sans-serif\; font-size: 11pt\;"><span style="margin: 0px\; padding: 0px\; border: 0px\; font-style: inherit\; font-variant: inherit\; font-weight: inherit\; font-stretch: inherit\; font-size: inherit\; line-height: inherit\; font-family: &quot\;Sagona Book&quot\;\, serif\; vertical-align: baseline\;">Want to win some extra holiday spending cash.... we will have a split the pot game for $5 per ticket.&nbsp\;<br />\n&nbsp\;</span></span></strong></p>\n\n<p class="x_MsoNormal" style="margin: 0in\; background-color: rgb(255\, 255\, 255)\;"><strong><span style="margin: 0px\; padding: 0px\; border: 0px\; font-variant-numeric: inherit\; font-variant-east-asian: inherit\; font-stretch: inherit\; line-height: inherit\; vertical-align: baseline\;"><font face="Sagona Book\, serif" style="color: rgb(178\, 34\, 34)\; font-family: Calibri\, sans-serif\; font-size: 11pt\;"><span style="font-style: inherit\; font-variant-ligatures: inherit\; font-variant-caps: inherit\; font-weight: inherit\;">&nbsp\;If you would like to avoid writing your name on extra raffle or split the pot </span></font><font color="#b22222" face="Sagona Book\, serif"><span style="font-size: 14.6667px\;">tickets\,</span></font><font face="Sagona Book\, serif" style="color: rgb(178\, 34\, 34)\; font-family: Calibri\, sans-serif\; font-size: 11pt\;"><span style="font-style: inherit\; font-variant-ligatures: inherit\; font-variant-caps: inherit\; font-weight: inherit\;">&nbsp\;<u>feel free to pre-purchase them on the event page and they will be pre-printed for you.&nbsp\;&nbsp\;</u></span></font></span></strong><br />\n&nbsp\;</p>\n\n<p class="x_MsoNormal" style="font-size: 11pt\; color: rgb(32\, 31\, 30)\; font-family: Calibri\, sans-serif\; margin: 0in\; background-color: rgb(255\, 255\, 255)\;"><strong><span style="color:#B22222\;"><span style="margin: 0px\; padding: 0px\; border: 0px\; font-style: inherit\; font-variant: inherit\; font-weight: inherit\; font-stretch: inherit\; font-size: inherit\; line-height: inherit\; font-family: &quot\;Sagona Book&quot\;\, serif\; vertical-align: baseline\;">&nbsp\;</span></span></strong></p>\n\n<p class="x_MsoNormal" style="margin: 0in\; background-color: rgb(255\, 255\, 255)\;"><span style="color: rgb(178\, 34\, 34)\; font-family: Calibri\, sans-serif\; font-size: 11pt\; font-weight: bold\;"><span style="margin: 0px\; padding: 0px\; border: 0px\; font-style: inherit\; font-variant: inherit\; font-weight: inherit\; font-stretch: inherit\; font-size: inherit\; line-height: inherit\; font-family: &quot\;Sagona Book&quot\;\, serif\; vertical-align: baseline\;">Not sure what to wear?&nbsp\; Like to win extra prizes?&nbsp\; </span></span><strong><span style="color: rgb(0\, 128\, 0)\; font-family: &quot\;Sagona Book&quot\;\, serif\; font-size: 18px\; font-weight: inherit\; margin: 0px\; padding: 0px\; border: 0px\; font-style: inherit\; font-variant: inherit\; font-stretch: inherit\; line-height: inherit\; vertical-align: baseline\;">Don a costume of your favorite Holiday Movie Character!&nbsp\;</span><span style="color:#008000\;"><span style="font-family: &quot\;Sagona Book&quot\;\, serif\; font-size: 18px\; font-weight: inherit\; margin: 0px\; padding: 0px\; border: 0px\; font-style: inherit\; font-variant: inherit\; font-stretch: inherit\; line-height: inherit\; vertical-align: baseline\;">&nbsp\;</span></span><span style="font-family: &quot\;Sagona Book&quot\;\, serif\; font-size: 18px\; font-weight: inherit\; margin: 0px\; padding: 0px\; border: 0px\; font-style: inherit\; font-variant: inherit\; font-stretch: inherit\; line-height: inherit\; vertical-align: baseline\;"><span style="color:#008000\;">If you come in Costume you will receive one additional drink ticket and you will be eligible for additional prizes!&nbsp\;</span></span></strong></p>\n\n<p class="x_MsoNormal" style="font-size: 11pt\; color: rgb(32\, 31\, 30)\; font-family: Calibri\, sans-serif\; margin: 0in\; background-color: rgb(255\, 255\, 255)\;"><span style="color:#008000\;"><strong><span style="margin: 0px\; padding: 0px\; border: 0px\; font-style: inherit\; font-variant: inherit\; font-weight: inherit\; font-stretch: inherit\; font-size: inherit\; line-height: inherit\; font-family: &quot\;Sagona Book&quot\;\, serif\; vertical-align: baseline\;">&nbsp\;</span></strong></span></p>\n\n<p class="x_MsoNormal" style="font-size: 11pt\; color: rgb(32\, 31\, 30)\; font-family: Calibri\, sans-serif\; margin: 0in\; background-color: rgb(255\, 255\, 255)\;">&nbsp\;</p>\n</div>\n
LOCATION:Pebble Creek Golf and Event Center 9799 Prechtel Road Cincinnati\, Ohio 45251
UID:e.2075.1855
SEQUENCE:3
DTSTAMP:20260422T205808Z
URL:https://business.colerainchamber.org/events/details/chamber-holiday-party-1855
END:VEVENT

END:VCALENDAR
