BEGIN:VCALENDAR
VERSION:2.0
PRODID:-//ChamberMaster//Event Calendar 2.0//EN
METHOD:PUBLISH
X-PUBLISHED-TTL:P3D
REFRESH-INTERVAL:P3D
CALSCALE:GREGORIAN
BEGIN:VEVENT
DTSTART:20211216T223000Z
DTEND:20211217T013000Z
X-MICROSOFT-CDO-ALLDAYEVENT:FALSE
SUMMARY:Chamber Holiday Party
DESCRIPTION:Join us for Holiday merriment at our LARGEST gathering of the year as we come together and celebrate another successful year!\n\n \n\n\nHoliday Cheer\, Networking\, Friends\, & Fun!\n\nCome celebrate the Holidays with your Colerain Chamber co-workers & friends!\n\nJoin us for a FREE fun night of holiday merriment in appreciation of all our fabulous members!\n\n \n\nSoft drinks\, appetizers\, activities\, and cash bar!  Your first 2 drinks are on us!  (3 if you register by Wednesday\, December 10th)\n\n \n\nNot sure what to wear?  Like to win extra prizes?  Don your best ugly sweater and join the fun!  There will be several categories to our ugly sweater contest as well as a bonus for participation!\n\n \n\nIs this your first year?  Not sure what to expect?  Just come and bring your smiles!  Only the committee knows exactly what activities you get to do part of the fun is in the surprise.  (Just like Christmas morning!!!)
X-ALT-DESC;FMTTYPE=text/html:<div align="center" style="margin: 0px\; padding: 0px\; border: 0px\; font-variant-numeric: inherit\; font-variant-east-asian: inherit\; font-stretch: inherit\; font-size: 14px\; line-height: inherit\; font-family: Arial\, Verdana\, Helvetica\, sans-serif\; vertical-align: baseline\; color: rgb(64\, 63\, 66)\; background-color: rgb(255\, 255\, 255)\; text-align: center\;"><br />\n<span style="color:#008000\;"><span style="margin: 0px\; padding: 0px\; border: 0px\; font-style: inherit\; font-variant: inherit\; font-weight: bold\; font-stretch: inherit\; font-size: inherit\; line-height: inherit\; font-family: inherit\; vertical-align: baseline\;">Join us for Holiday merriment at our LARGEST&nbsp\;gathering of the year as we come together and celebrate another successful year!</span></span></div>\n\n<div style="margin: 0px\; padding: 0px\; border: 0px\; font-variant-numeric: inherit\; font-variant-east-asian: inherit\; font-stretch: inherit\; font-size: 14px\; line-height: inherit\; font-family: Arial\, Verdana\, Helvetica\, sans-serif\; vertical-align: baseline\; color: rgb(64\, 63\, 66)\; background-color: rgb(255\, 255\, 255)\;">&nbsp\;</div>\n\n<div style="margin: 0px\; padding: 0px\; border: 0px\; font-variant-numeric: inherit\; font-variant-east-asian: inherit\; font-stretch: inherit\; font-size: 14px\; line-height: inherit\; font-family: Arial\, Verdana\, Helvetica\, sans-serif\; vertical-align: baseline\; color: rgb(64\, 63\, 66)\; background-color: rgb(255\, 255\, 255)\;">\n<p class="x_MsoNormal" style="margin: 0in\; font-size: 11pt\; font-family: Calibri\, sans-serif\; color: rgb(32\, 31\, 30)\; background-color: rgb(255\, 255\, 255)\;"><strong><span style="color:#B22222\;"><span style="margin: 0px\; padding: 0px\; border: 0px\; font-style: inherit\; font-variant: inherit\; font-weight: inherit\; font-stretch: inherit\; font-size: inherit\; line-height: inherit\; font-family: &quot\;Sagona Book&quot\;\, serif\; vertical-align: baseline\;">Holiday Cheer\, Networking\, Friends\, &amp\; Fun!</span></span></strong></p>\n\n<p class="x_MsoNormal" style="margin: 0in\; font-size: 11pt\; font-family: Calibri\, sans-serif\; color: rgb(32\, 31\, 30)\; background-color: rgb(255\, 255\, 255)\;"><strong><span style="color:#B22222\;"><span style="margin: 0px\; padding: 0px\; border: 0px\; font-style: inherit\; font-variant: inherit\; font-weight: inherit\; font-stretch: inherit\; font-size: inherit\; line-height: inherit\; font-family: &quot\;Sagona Book&quot\;\, serif\; vertical-align: baseline\;">Come celebrate the Holidays with your Colerain Chamber co-workers &amp\; friends!<br />\nJoin us for a FREE fun night of holiday merriment in appreciation of all our fabulous members!</span></span></strong></p>\n\n<p class="x_MsoNormal" style="margin: 0in\; font-size: 11pt\; font-family: Calibri\, sans-serif\; color: rgb(32\, 31\, 30)\; background-color: rgb(255\, 255\, 255)\;"><strong><span style="color:#B22222\;"><span style="margin: 0px\; padding: 0px\; border: 0px\; font-style: inherit\; font-variant: inherit\; font-weight: inherit\; font-stretch: inherit\; font-size: inherit\; line-height: inherit\; font-family: &quot\;Sagona Book&quot\;\, serif\; vertical-align: baseline\;">&nbsp\;</span></span></strong></p>\n\n<p class="x_MsoNormal" style="margin: 0in\; font-size: 11pt\; font-family: Calibri\, sans-serif\; color: rgb(32\, 31\, 30)\; background-color: rgb(255\, 255\, 255)\;"><strong><span style="color:#B22222\;"><span style="margin: 0px\; padding: 0px\; border: 0px\; font-style: inherit\; font-variant: inherit\; font-weight: inherit\; font-stretch: inherit\; font-size: inherit\; line-height: inherit\; font-family: &quot\;Sagona Book&quot\;\, serif\; vertical-align: baseline\;">Soft drinks\, appetizers\, activities\, and cash bar!&nbsp\; Your first 2 drinks are on us!&nbsp\; (3 if you register by Wednesday\, December 10<sup>th</sup>)</span></span></strong></p>\n\n<p class="x_MsoNormal" style="margin: 0in\; font-size: 11pt\; font-family: Calibri\, sans-serif\; color: rgb(32\, 31\, 30)\; background-color: rgb(255\, 255\, 255)\;"><strong><span style="color:#B22222\;"><span style="margin: 0px\; padding: 0px\; border: 0px\; font-style: inherit\; font-variant: inherit\; font-weight: inherit\; font-stretch: inherit\; font-size: inherit\; line-height: inherit\; font-family: &quot\;Sagona Book&quot\;\, serif\; vertical-align: baseline\;">&nbsp\;</span></span></strong></p>\n\n<p class="x_MsoNormal" style="margin: 0in\; font-size: 11pt\; font-family: Calibri\, sans-serif\; color: rgb(32\, 31\, 30)\; background-color: rgb(255\, 255\, 255)\;"><strong><span style="color:#B22222\;"><span style="margin: 0px\; padding: 0px\; border: 0px\; font-style: inherit\; font-variant: inherit\; font-weight: inherit\; font-stretch: inherit\; font-size: inherit\; line-height: inherit\; font-family: &quot\;Sagona Book&quot\;\, serif\; vertical-align: baseline\;">Not sure what to wear?&nbsp\; Like to win extra prizes?&nbsp\; Don your best ugly sweater and join the fun!&nbsp\; There will be several categories to our ugly sweater contest as well as a bonus for participation!</span></span></strong></p>\n\n<p class="x_MsoNormal" style="margin: 0in\; font-size: 11pt\; font-family: Calibri\, sans-serif\; color: rgb(32\, 31\, 30)\; background-color: rgb(255\, 255\, 255)\;"><strong><span style="color:#B22222\;"><span style="margin: 0px\; padding: 0px\; border: 0px\; font-style: inherit\; font-variant: inherit\; font-weight: inherit\; font-stretch: inherit\; font-size: inherit\; line-height: inherit\; font-family: &quot\;Sagona Book&quot\;\, serif\; vertical-align: baseline\;">&nbsp\;</span></span></strong></p>\n\n<p class="x_MsoNormal" style="margin: 0in\; font-size: 11pt\; font-family: Calibri\, sans-serif\; color: rgb(32\, 31\, 30)\; background-color: rgb(255\, 255\, 255)\;"><strong><span style="color:#B22222\;"><span style="margin: 0px\; padding: 0px\; border: 0px\; font-style: inherit\; font-variant: inherit\; font-weight: inherit\; font-stretch: inherit\; font-size: inherit\; line-height: inherit\; font-family: &quot\;Sagona Book&quot\;\, serif\; vertical-align: baseline\;">Is this your first year?&nbsp\; Not sure what to expect?&nbsp\; Just come and bring your smiles!&nbsp\; Only the committee knows exactly what activities you get to do&hellip\;part of the fun is in the surprise.&nbsp\; (Just like Christmas morning!!!)</span></span></strong></p>\n</div>\n
LOCATION:Willow Event Center 7881 Colerain Avenue Cincinnati\, Ohio 45239
UID:e.2075.1752
SEQUENCE:3
DTSTAMP:20260425T030214Z
URL:https://business.colerainchamber.org/events/details/chamber-holiday-party-1752
END:VEVENT

END:VCALENDAR
