BEGIN:VCALENDAR
VERSION:2.0
PRODID:-//ChamberMaster//Event Calendar 2.0//EN
METHOD:PUBLISH
X-PUBLISHED-TTL:P3D
REFRESH-INTERVAL:P3D
CALSCALE:GREGORIAN
BEGIN:VEVENT
DTSTART:20210623T113000Z
DTEND:20210623T130000Z
X-MICROSOFT-CDO-ALLDAYEVENT:FALSE
SUMMARY:Chamber Board Meeting
DESCRIPTION:Chamber Board meetings are attended by the elected Chamber Board members. If general members of the Colerain Chamber wish to attend to share information or ask questions\, they should first contact Chamber President Dave Moravec in advance of the meeting.
X-ALT-DESC;FMTTYPE=text/html:<span style="font-family:arial\;"><span style="font-size:14px\;">Chamber Board meetings are attended by the elected Chamber Board members. If general members of the Colerain Chamber wish to attend to share information or ask questions\, they should first contact Chamber President Dave Moravec in advance of the meeting.<br />\n<br />\n&nbsp\;</span></span>
LOCATION:In person - Colerain Chamber of Commerce building
UID:e.2075.1494
SEQUENCE:3
DTSTAMP:20260421T105744Z
URL:https://business.colerainchamber.org/events/details/chamber-board-meeting-06-16-2021-1494
END:VEVENT

END:VCALENDAR
