BEGIN:VCALENDAR
VERSION:2.0
PRODID:-//ChamberMaster//Event Calendar 2.0//EN
METHOD:PUBLISH
X-PUBLISHED-TTL:P3D
REFRESH-INTERVAL:P3D
CALSCALE:GREGORIAN
BEGIN:VEVENT
DTSTART:20230223T203000Z
DTEND:20230223T233000Z
X-MICROSOFT-CDO-ALLDAYEVENT:FALSE
SUMMARY:Beers & Biz - B2B Networking
DESCRIPTION:Hosted by Xavier Leadership Center -  Beers & Biz B2B is a monthly Networking event that includes growth-focused monthly topical roundtable discussions and open networking. \n \n\n\nRoundtable discussions are broken into primary areas of primary areas of growth-focus and function and are designed to be topical discussions facilitated by a local leader in each group. These groups are great opportunities for peer-to-peer engagement\, sharing of industry best practices\, and real time learnings and struggles of current relevant topics. They're also great for networking across your primary job function to meet other people in your role in different industry verticals.\n\n\n\nRoundtable Details:\n\nPeople & Human Capital Growth\n\nFacilitator:\n\nMichelle Dunne - Client Strategist & Senior Consultant\n\nM ark Helphinstine - Strategic Business Development Director\; VonLehman\n\n \n\nRevenue Growth\n\nFacilitator:\n\nSean O'Shaughnessey - CEO & President\; New Sales Expert\, LLC\n\nJ ennifer Panepinto - Owner and Senior Marketing Consultant\; Painted Bread Marketing\n\nDaron Fender - Regional Director\; The Shamrock Companies\n\n \n\nFaith @ Work\n\nFacilitator:\n\nSteve King - President\; People At Your Service\n\n \n\n \n\nLeadership Growth\n\nFacilitator:\n\nAndy Foerster   Leadership Facilitator\; Academy Leadership\n\n \n\n \n\n \n\n\n\n\n\nJanuary Local Nonprofit Spotlight:\n\nX avier Leadership Center\n\nhttps://xavierleadershipcenter.com/
X-ALT-DESC;FMTTYPE=text/html:<span style="background-color: rgb(255\, 255\, 255)\; color: rgb(57\, 54\, 79)\; font-family: &quot\;Neue Plak&quot\;\, -apple-system\, BlinkMacSystemFont\, Roboto\, &quot\;Helvetica Neue&quot\;\, Helvetica\, Tahoma\, Arial\, sans-serif\; font-size: 14px\; font-weight: 600\;"><u>Hosted by Xavier Leadership Center&nbsp\;</u>-&nbsp\;&nbsp\;</span><span style="background-color: rgb(255\, 255\, 255)\; font-weight: 600\; box-sizing: border-box\; color: rgb(57\, 54\, 79)\; font-family: &quot\;Neue Plak&quot\;\, -apple-system\, BlinkMacSystemFont\, Roboto\, &quot\;Helvetica Neue&quot\;\, Helvetica\, Tahoma\, Arial\, sans-serif\; font-size: 14px\;">Beers &amp\; Biz&nbsp\;</span><span style="background-color: rgb(255\, 255\, 255)\; color: rgb(57\, 54\, 79)\; font-family: &quot\;Neue Plak&quot\;\, -apple-system\, BlinkMacSystemFont\, Roboto\, &quot\;Helvetica Neue&quot\;\, Helvetica\, Tahoma\, Arial\, sans-serif\; font-size: 14px\; font-weight: 600\;">B2B&nbsp\;</span><span style="background-color: rgb(255\, 255\, 255)\; font-weight: 600\; box-sizing: border-box\; color: rgb(57\, 54\, 79)\; font-family: &quot\;Neue Plak&quot\;\, -apple-system\, BlinkMacSystemFont\, Roboto\, &quot\;Helvetica Neue&quot\;\, Helvetica\, Tahoma\, Arial\, sans-serif\; font-size: 14px\;">is a monthly Networking event that includes growth-focused monthly topical roundtable discussions and open networking.&nbsp\;</span>\n<div>&nbsp\;</div>\n<br />\n<span style="font-size:14px\;"><span style="color: rgb(111\, 114\, 135)\; font-family: &quot\;Neue Plak&quot\;\, -apple-system\, BlinkMacSystemFont\, Roboto\, &quot\;Helvetica Neue&quot\;\, Helvetica\, Tahoma\, Arial\, sans-serif\; background-color: rgb(255\, 255\, 255)\;">Roundtable discussions are broken into primary areas of primary areas of growth-focus and function and are designed to be topical discussions facilitated by a local leader in each group. These groups are great opportunities for peer-to-peer engagement\, sharing of industry best practices\, and real time learnings and struggles of current relevant topics. They&#39\;re also great for networking across your primary job function to meet other people in your role in different industry verticals.</span></span>\n\n<div class="eds-l-mar-vert-6 eds-l-sm-mar-vert-4 eds-text-bm structured-content-rich-text" style="margin: 24px 0px\; padding: 0px\; text-rendering: optimizelegibility\; font-size: 14px\; line-height: 1.25rem\; box-sizing: border-box\; color: rgb(57\, 54\, 79)\; font-family: &quot\;Neue Plak&quot\;\, -apple-system\, BlinkMacSystemFont\, Roboto\, &quot\;Helvetica Neue&quot\;\, Helvetica\, Tahoma\, Arial\, sans-serif\; background-color: rgb(255\, 255\, 255)\;">\n<div class="eds-text--left" style="margin: 0px\; padding: 0px\; box-sizing: border-box\;">\n<h2 style="margin: 0px\; padding: 10px 0px 0px\; box-sizing: border-box\; color: rgb(30\, 10\, 60)\; font-size: 24px\; line-height: 2rem\; letter-spacing: 0.5px\;">Roundtable Details:</h2>\n\n<h3 style="margin: 0px\; padding: 10px 0px 0px\; box-sizing: border-box\; color: rgb(30\, 10\, 60)\; font-size: 20px\; line-height: 1.75rem\; font-weight: 400\;"><span style="font-weight: 700\; box-sizing: border-box\; padding-top: 0px\;">People &amp\; Human Capital Growth</span></h3>\n\n<p style="margin: 0px\; padding: 10px 0px 0px\; box-sizing: border-box\; color: rgb(111\, 114\, 135)\; font-size: 16px\; line-height: 1.5rem\;"><em style="box-sizing: border-box\; padding-top: 0px\;"><span style="font-weight: 700\; box-sizing: border-box\; padding-top: 0px\;">Facilitator:</span></em></p>\n\n<p style="margin: 0px\; padding: 10px 0px 0px\; box-sizing: border-box\; color: rgb(111\, 114\, 135)\; font-size: 16px\; line-height: 1.5rem\;"><span style="font-weight: 700\; box-sizing: border-box\; padding-top: 0px\;">Michelle Dunne</span>&nbsp\;- Client Strategist &amp\; Senior Consultant</p>\n\n<p style="margin: 0px\; padding: 10px 0px 0px\; box-sizing: border-box\; color: rgb(111\, 114\, 135)\; font-size: 16px\; line-height: 1.5rem\;"><span style="font-weight: 700\; box-sizing: border-box\; padding-top: 0px\;">M&#65279\;ark Helphinstine</span>&nbsp\;- Strategic Business Development Director\; VonLehman</p>\n\n<p style="margin: 0px\; padding: 10px 0px 0px\; box-sizing: border-box\; color: rgb(111\, 114\, 135)\; font-size: 16px\; line-height: 1.5rem\;">&nbsp\;</p>\n\n<h3 style="margin: 0px\; padding: 10px 0px 0px\; box-sizing: border-box\; color: rgb(30\, 10\, 60)\; font-size: 20px\; line-height: 1.75rem\; font-weight: 400\;"><span style="font-weight: 700\; box-sizing: border-box\; padding-top: 0px\;">Revenue Growth</span></h3>\n\n<p style="margin: 0px\; padding: 10px 0px 0px\; box-sizing: border-box\; color: rgb(111\, 114\, 135)\; font-size: 16px\; line-height: 1.5rem\;"><em style="box-sizing: border-box\; padding-top: 0px\;"><span style="font-weight: 700\; box-sizing: border-box\; padding-top: 0px\;">Facilitator:</span></em></p>\n\n<p style="margin: 0px\; padding: 10px 0px 0px\; box-sizing: border-box\; color: rgb(111\, 114\, 135)\; font-size: 16px\; line-height: 1.5rem\;"><span style="font-weight: 700\; box-sizing: border-box\; padding-top: 0px\;">Sean O&#39\;Shaughnessey</span>&nbsp\;- CEO &amp\; President\; New Sales Expert\, LLC</p>\n\n<p style="margin: 0px\; padding: 10px 0px 0px\; box-sizing: border-box\; color: rgb(111\, 114\, 135)\; font-size: 16px\; line-height: 1.5rem\;"><span style="font-weight: 700\; box-sizing: border-box\; padding-top: 0px\;">J&#65279\;ennifer Panepinto</span>&nbsp\;- Owner and Senior Marketing Consultant\; Painted Bread Marketing</p>\n\n<p style="margin: 0px\; padding: 10px 0px 0px\; box-sizing: border-box\; color: rgb(111\, 114\, 135)\; font-size: 16px\; line-height: 1.5rem\;"><span style="font-weight: 700\; box-sizing: border-box\; padding-top: 0px\;">Daron Fender</span>&nbsp\;- Regional Director\; The Shamrock Companies</p>\n\n<p style="margin: 0px\; padding: 10px 0px 0px\; box-sizing: border-box\; color: rgb(111\, 114\, 135)\; font-size: 16px\; line-height: 1.5rem\;">&nbsp\;</p>\n\n<h3 style="margin: 0px\; padding: 10px 0px 0px\; box-sizing: border-box\; color: rgb(30\, 10\, 60)\; font-size: 20px\; line-height: 1.75rem\; font-weight: 400\;"><span style="font-weight: 700\; box-sizing: border-box\; padding-top: 0px\;">Faith @ Work</span></h3>\n\n<p style="margin: 0px\; padding: 10px 0px 0px\; box-sizing: border-box\; color: rgb(111\, 114\, 135)\; font-size: 16px\; line-height: 1.5rem\;"><em style="box-sizing: border-box\; padding-top: 0px\;"><span style="font-weight: 700\; box-sizing: border-box\; padding-top: 0px\;">Facilitator:</span></em></p>\n\n<p style="margin: 0px\; padding: 10px 0px 0px\; box-sizing: border-box\; color: rgb(111\, 114\, 135)\; font-size: 16px\; line-height: 1.5rem\;"><span style="font-weight: 700\; box-sizing: border-box\; padding-top: 0px\;">Steve King</span>&nbsp\;- President\; People At Your Service</p>\n\n<p style="margin: 0px\; padding: 10px 0px 0px\; box-sizing: border-box\; color: rgb(111\, 114\, 135)\; font-size: 16px\; line-height: 1.5rem\;">&nbsp\;</p>\n\n<p style="margin: 0px\; padding: 10px 0px 0px\; box-sizing: border-box\; color: rgb(111\, 114\, 135)\; font-size: 16px\; line-height: 1.5rem\;">&nbsp\;</p>\n\n<h3 style="margin: 0px\; padding: 10px 0px 0px\; box-sizing: border-box\; color: rgb(30\, 10\, 60)\; font-size: 20px\; line-height: 1.75rem\; font-weight: 400\;"><span style="font-weight: 700\; box-sizing: border-box\; padding-top: 0px\;">Leadership Growth</span></h3>\n\n<p style="margin: 0px\; padding: 10px 0px 0px\; box-sizing: border-box\; color: rgb(111\, 114\, 135)\; font-size: 16px\; line-height: 1.5rem\;"><em style="box-sizing: border-box\; padding-top: 0px\;"><span style="font-weight: 700\; box-sizing: border-box\; padding-top: 0px\;">Facilitator:</span></em></p>\n\n<p style="margin: 0px\; padding: 10px 0px 0px\; box-sizing: border-box\; color: rgb(111\, 114\, 135)\; font-size: 16px\; line-height: 1.5rem\;"><span style="font-weight: 700\; box-sizing: border-box\; padding-top: 0px\;">Andy Foerster</span>&nbsp\;&ndash\; Leadership Facilitator\; Academy Leadership</p>\n\n<p style="margin: 0px\; padding: 10px 0px 0px\; box-sizing: border-box\; color: rgb(111\, 114\, 135)\; font-size: 16px\; line-height: 1.5rem\;">&nbsp\;</p>\n\n<p style="margin: 0px\; padding: 10px 0px 0px\; box-sizing: border-box\; color: rgb(111\, 114\, 135)\; font-size: 16px\; line-height: 1.5rem\;">&nbsp\;</p>\n\n<p style="margin: 0px\; padding: 10px 0px 0px\; box-sizing: border-box\; color: rgb(111\, 114\, 135)\; font-size: 16px\; line-height: 1.5rem\;">&nbsp\;</p>\n</div>\n</div>\n\n<div class="eds-l-mar-vert-6 eds-l-sm-mar-vert-4 eds-text-bm structured-content-rich-text" style="margin: 24px 0px\; padding: 0px\; text-rendering: optimizelegibility\; font-size: 14px\; line-height: 1.25rem\; box-sizing: border-box\; color: rgb(57\, 54\, 79)\; font-family: &quot\;Neue Plak&quot\;\, -apple-system\, BlinkMacSystemFont\, Roboto\, &quot\;Helvetica Neue&quot\;\, Helvetica\, Tahoma\, Arial\, sans-serif\; background-color: rgb(255\, 255\, 255)\;">\n<div class="eds-text--left" style="margin: 0px\; padding: 0px\; box-sizing: border-box\;">\n<h2 style="margin: 0px\; padding: 0px\; box-sizing: border-box\; color: rgb(30\, 10\, 60)\; font-size: 24px\; line-height: 2rem\; letter-spacing: 0.5px\;">January Local Nonprofit Spotlight:</h2>\n\n<p style="margin: 0px\; padding: 10px 0px 0px\; box-sizing: border-box\; color: rgb(111\, 114\, 135)\; font-size: 16px\; line-height: 1.5rem\;">X&#65279\;avier Leadership Center</p>\n\n<p style="margin: 0px\; padding: 10px 0px 0px\; box-sizing: border-box\; color: rgb(111\, 114\, 135)\; font-size: 16px\; line-height: 1.5rem\;">https://xavierleadershipcenter.com/</p>\n</div>\n</div>\n\n<h3 style="margin: 0px\; padding: 10px 0px 0px\; box-sizing: border-box\; color: rgb(30\, 10\, 60)\; font-size: 20px\; line-height: 1.75rem\; font-weight: 400\; font-family: &quot\;Neue Plak&quot\;\, -apple-system\, BlinkMacSystemFont\, Roboto\, &quot\;Helvetica Neue&quot\;\, Helvetica\, Tahoma\, Arial\, sans-serif\; background-color: rgb(255\, 255\, 255)\;">&nbsp\;</h3>\n\n<p style="margin: 0px\; padding: 10px 0px 0px\; box-sizing: border-box\; color: rgb(111\, 114\, 135)\; font-size: 16px\; line-height: 1.5rem\; font-family: &quot\;Neue Plak&quot\;\, -apple-system\, BlinkMacSystemFont\, Roboto\, &quot\;Helvetica Neue&quot\;\, Helvetica\, Tahoma\, Arial\, sans-serif\; background-color: rgb(255\, 255\, 255)\;">&nbsp\;</p>\n
LOCATION:Xavier Center for Innovation 1605 Dana Avenue Cincinnati\, OH 45207 (Just west of Listermann Brewing Co.)
UID:e.2075.1907
SEQUENCE:3
DTSTAMP:20260422T154446Z
URL:https://business.colerainchamber.org/events/details/beers-biz-b2b-networking-1907
END:VEVENT

END:VCALENDAR
